BEGIN:VCALENDAR
VERSION:2.0
PRODID:-//WIC - ECPv6.15.14//NONSGML v1.0//EN
CALSCALE:GREGORIAN
METHOD:PUBLISH
X-WR-CALNAME:WIC
X-ORIGINAL-URL:https://wic.sbcounty.gov
X-WR-CALDESC:Events for WIC
REFRESH-INTERVAL;VALUE=DURATION:PT1H
X-Robots-Tag:noindex
X-PUBLISHED-TTL:PT1H
BEGIN:VTIMEZONE
TZID:America/Los_Angeles
BEGIN:DAYLIGHT
TZOFFSETFROM:-0800
TZOFFSETTO:-0700
TZNAME:PDT
DTSTART:20250309T100000
END:DAYLIGHT
BEGIN:STANDARD
TZOFFSETFROM:-0700
TZOFFSETTO:-0800
TZNAME:PST
DTSTART:20251102T090000
END:STANDARD
BEGIN:DAYLIGHT
TZOFFSETFROM:-0800
TZOFFSETTO:-0700
TZNAME:PDT
DTSTART:20260308T100000
END:DAYLIGHT
BEGIN:STANDARD
TZOFFSETFROM:-0700
TZOFFSETTO:-0800
TZNAME:PST
DTSTART:20261101T090000
END:STANDARD
BEGIN:DAYLIGHT
TZOFFSETFROM:-0800
TZOFFSETTO:-0700
TZNAME:PDT
DTSTART:20270314T100000
END:DAYLIGHT
BEGIN:STANDARD
TZOFFSETFROM:-0700
TZOFFSETTO:-0800
TZNAME:PST
DTSTART:20271107T090000
END:STANDARD
END:VTIMEZONE
BEGIN:VEVENT
DTSTART;TZID=America/Los_Angeles:20260512T110000
DTEND;TZID=America/Los_Angeles:20260512T120000
DTSTAMP:20260419T110558
CREATED:20251103T201348Z
LAST-MODIFIED:20260417T223406Z
UID:10010165-1778583600-1778587200@wic.sbcounty.gov
SUMMARY:Es muy pronto para los alimentos sólidos?
DESCRIPTION:En esta clase descubriremos tres estrategias clave para identificar si su bebé está preparado para la comida sólida y aprenderemos por qué es importante esperar hasta que su bebé esté realmente preparado. Esta es una clase de participación\, así que venga listo/a para aprender y compartir ideas con otros cuidadores y padres como usted. \nEn esta clase\, aprenderá sobre: \n\nLas señales que muestra su bebé cuando está listo para los alimentos.\nPor qué es tan importante esperar a estar preparado.\nConsejos prácticos para padres ocupados.\n\n¡Unirse a la clase es fácil! Para inscribirse y formar parte\, simplemente utilice el botón «Unete a nuestra clase ahora» que está abajo. Necesitará uno de los siguientes datos: el número de teléfono de su cuenta WIC\, el número de su tarjeta WIC o su número de identificación familiar. \nNota: La sesión de la clase en grupo se cerrará puntualmente 5 minutos después de la hora de inicio. Si\, por cualquier motivo\, usted se conecta tarde y ve que la reunión ya ha concluido\, le pedimos que considere unirte a otra clase más tarde o en un día diferente que se adapte mejor a su horario. ¡Nos vemos en la sala de Zoom! \n Únete a nuestra clase ahora! \n  \n  \n 
URL:https://wic.sbcounty.gov/event/es-demasiado-pronto-para-introducer-alimentos-solidos-2-2-2-2-2-2/2026-05-12/
LOCATION:Zoom/Virtual
CATEGORIES:Nutrición infantil 4-8 meses
ATTACH;FMTTYPE=image/jpeg:https://wic.sbcounty.gov/wp-content/uploads/sites/89/too.jpg
END:VEVENT
BEGIN:VEVENT
DTSTART;TZID=America/Los_Angeles:20260526T150000
DTEND;TZID=America/Los_Angeles:20260526T160000
DTSTAMP:20260419T110558
CREATED:20251103T201348Z
LAST-MODIFIED:20260417T223406Z
UID:10010168-1779807600-1779811200@wic.sbcounty.gov
SUMMARY:Es muy pronto para los alimentos sólidos?
DESCRIPTION:En esta clase descubriremos tres estrategias clave para identificar si su bebé está preparado para la comida sólida y aprenderemos por qué es importante esperar hasta que su bebé esté realmente preparado. Esta es una clase de participación\, así que venga listo/a para aprender y compartir ideas con otros cuidadores y padres como usted. \nEn esta clase\, aprenderá sobre: \n\nLas señales que muestra su bebé cuando está listo para los alimentos.\nPor qué es tan importante esperar a estar preparado.\nConsejos prácticos para padres ocupados.\n\n¡Unirse a la clase es fácil! Para inscribirse y formar parte\, simplemente utilice el botón «Unete a nuestra clase ahora» que está abajo. Necesitará uno de los siguientes datos: el número de teléfono de su cuenta WIC\, el número de su tarjeta WIC o su número de identificación familiar. \nNota: La sesión de la clase en grupo se cerrará puntualmente 5 minutos después de la hora de inicio. Si\, por cualquier motivo\, usted se conecta tarde y ve que la reunión ya ha concluido\, le pedimos que considere unirte a otra clase más tarde o en un día diferente que se adapte mejor a su horario. ¡Nos vemos en la sala de Zoom! \n Únete a nuestra clase ahora! \n  \n  \n 
URL:https://wic.sbcounty.gov/event/es-demasiado-pronto-para-introducer-alimentos-solidos-2-2-2-2-2-2/2026-05-26/
LOCATION:Zoom/Virtual
CATEGORIES:Nutrición infantil 4-8 meses
ATTACH;FMTTYPE=image/jpeg:https://wic.sbcounty.gov/wp-content/uploads/sites/89/too.jpg
END:VEVENT
END:VCALENDAR