BEGIN:VCALENDAR
VERSION:2.0
PRODID:-//WIC - ECPv6.15.14//NONSGML v1.0//EN
CALSCALE:GREGORIAN
METHOD:PUBLISH
X-ORIGINAL-URL:https://wic.sbcounty.gov
X-WR-CALDESC:Events for WIC
REFRESH-INTERVAL;VALUE=DURATION:PT1H
X-Robots-Tag:noindex
X-PUBLISHED-TTL:PT1H
BEGIN:VTIMEZONE
TZID:America/Los_Angeles
BEGIN:DAYLIGHT
TZOFFSETFROM:-0800
TZOFFSETTO:-0700
TZNAME:PDT
DTSTART:20250309T100000
END:DAYLIGHT
BEGIN:STANDARD
TZOFFSETFROM:-0700
TZOFFSETTO:-0800
TZNAME:PST
DTSTART:20251102T090000
END:STANDARD
BEGIN:DAYLIGHT
TZOFFSETFROM:-0800
TZOFFSETTO:-0700
TZNAME:PDT
DTSTART:20260308T100000
END:DAYLIGHT
BEGIN:STANDARD
TZOFFSETFROM:-0700
TZOFFSETTO:-0800
TZNAME:PST
DTSTART:20261101T090000
END:STANDARD
BEGIN:DAYLIGHT
TZOFFSETFROM:-0800
TZOFFSETTO:-0700
TZNAME:PDT
DTSTART:20270314T100000
END:DAYLIGHT
BEGIN:STANDARD
TZOFFSETFROM:-0700
TZOFFSETTO:-0800
TZNAME:PST
DTSTART:20271107T090000
END:STANDARD
BEGIN:DAYLIGHT
TZOFFSETFROM:-0800
TZOFFSETTO:-0700
TZNAME:PDT
DTSTART:20280312T100000
END:DAYLIGHT
BEGIN:STANDARD
TZOFFSETFROM:-0700
TZOFFSETTO:-0800
TZNAME:PST
DTSTART:20281105T090000
END:STANDARD
BEGIN:DAYLIGHT
TZOFFSETFROM:-0800
TZOFFSETTO:-0700
TZNAME:PDT
DTSTART:20290311T100000
END:DAYLIGHT
BEGIN:STANDARD
TZOFFSETFROM:-0700
TZOFFSETTO:-0800
TZNAME:PST
DTSTART:20291104T090000
END:STANDARD
END:VTIMEZONE
BEGIN:VEVENT
DTSTART;TZID=America/Los_Angeles:20260527T150000
DTEND;TZID=America/Los_Angeles:20260527T160000
DTSTAMP:20260419T165653
CREATED:20251106T002318Z
LAST-MODIFIED:20260417T224417Z
UID:10009985-1779894000-1779897600@wic.sbcounty.gov
SUMMARY:New WIC Foods
DESCRIPTION:Get the latest updates about the new changes coming to the WIC food packages! Starting April 13th \, 2026 food packages will change to offer more choices for whole wheat grains\, dairy\, canned fish\, and fruits and vegetables.  These changes will provide more nutritious choices to support healthy grow and development. While also offering more flexibility to fit personal and cultural food preferences. \nWhat You’ll Learn: \n\nThe new food choices that you can pick at the store.\nThe new swap options you can request during your WIC appointment.\nWhere to find the new choices using the new Shopping Guide and your WIC App.\nNutritional benefits found in our new WIC foods.\n\nJoining the class is easy! To sign up and join\, simply use the “Join a WIC Class Now” button below. You’ll need any one of the following items of information: the phone number on your WIC account\, your WIC card number\, or your Family ID number. \nPlease note: The group class meeting will close promptly 5 minutes after the initial start time. If\, for any reason\, you log in late and find that the meeting has already concluded\, we ask you to consider joining another class later or on a different day that better matches your schedule. See you in the Zoom room!
URL:https://wic.sbcounty.gov/event/picky-eating-tips-for-trying-new-foods-2/2026-05-27/
LOCATION:Zoom/Virtual
CATEGORIES:Parents of Children Ages 6 Months and Older.
ATTACH;FMTTYPE=image/jpeg:https://wic.sbcounty.gov/wp-content/uploads/sites/89/April-June-Picture.jpg
END:VEVENT
BEGIN:VEVENT
DTSTART;TZID=America/Los_Angeles:20260528T090000
DTEND;TZID=America/Los_Angeles:20260528T100000
DTSTAMP:20260419T165653
CREATED:20251106T002318Z
LAST-MODIFIED:20260417T224417Z
UID:10009988-1779958800-1779962400@wic.sbcounty.gov
SUMMARY:New WIC Foods
DESCRIPTION:Get the latest updates about the new changes coming to the WIC food packages! Starting April 13th \, 2026 food packages will change to offer more choices for whole wheat grains\, dairy\, canned fish\, and fruits and vegetables.  These changes will provide more nutritious choices to support healthy grow and development. While also offering more flexibility to fit personal and cultural food preferences. \nWhat You’ll Learn: \n\nThe new food choices that you can pick at the store.\nThe new swap options you can request during your WIC appointment.\nWhere to find the new choices using the new Shopping Guide and your WIC App.\nNutritional benefits found in our new WIC foods.\n\nJoining the class is easy! To sign up and join\, simply use the “Join a WIC Class Now” button below. You’ll need any one of the following items of information: the phone number on your WIC account\, your WIC card number\, or your Family ID number. \nPlease note: The group class meeting will close promptly 5 minutes after the initial start time. If\, for any reason\, you log in late and find that the meeting has already concluded\, we ask you to consider joining another class later or on a different day that better matches your schedule. See you in the Zoom room!
URL:https://wic.sbcounty.gov/event/picky-eating-tips-for-trying-new-foods-2/2026-05-28/
LOCATION:Zoom/Virtual
CATEGORIES:Parents of Children Ages 6 Months and Older.
ATTACH;FMTTYPE=image/jpeg:https://wic.sbcounty.gov/wp-content/uploads/sites/89/April-June-Picture.jpg
END:VEVENT
BEGIN:VEVENT
DTSTART;TZID=America/Los_Angeles:20260528T110000
DTEND;TZID=America/Los_Angeles:20260528T120000
DTSTAMP:20260419T165653
CREATED:20251105T202459Z
LAST-MODIFIED:20260417T223149Z
UID:10010015-1779966000-1779969600@wic.sbcounty.gov
SUMMARY:Breastfeeding Basics
DESCRIPTION:We’ll discover three key strategies to empower you in nurturing and nourishing your baby with confidence\, from birth and beyond. This is an interactive class\, so come ready to learn and share ideas with other caregivers and parents like you! \nIn this class\, you will learn about: \n\nHow breast milk is made\nWhen to nurse your baby\nHow does WIC support Breastfeeding?\n\nJoining the class is easy! To sign up and join\, simply use the “Join a WIC Class Now” button below. You’ll need any one of the following items of information: the phone number on your WIC account\, your WIC card number\, or your Family ID number. \nPlease note: The group class meeting will close promptly 5 minutes after the initial start time. If\, for any reason\, you log in late and find that the meeting has already concluded\, we ask you to consider joining another class later or on a different day that better matches your schedule. See you in the Zoom room! \nJoin a Class Now \n  \n  \n 
URL:https://wic.sbcounty.gov/event/infant-feeding-101-2-2-2-2-2-2-2-2/2026-05-28/
LOCATION:Zoom/Virtual
CATEGORIES:Prenatal
ATTACH;FMTTYPE=image/jpeg:https://wic.sbcounty.gov/wp-content/uploads/sites/89/BF.jpg
END:VEVENT
BEGIN:VEVENT
DTSTART;TZID=America/Los_Angeles:20260528T150000
DTEND;TZID=America/Los_Angeles:20260528T160000
DTSTAMP:20260419T165653
CREATED:20251105T224127Z
LAST-MODIFIED:20260417T224233Z
UID:10010111-1779980400-1779984000@wic.sbcounty.gov
SUMMARY:Newborn Feeding Secrets
DESCRIPTION:We’ll discover three key strategies to understand how your newborn communicates with you and explore common baby sleeping patterns from birth and beyond. This is an interactive class\, so come ready to learn and share ideas with other caregivers and parents like you! \nIn this class\, you will learn about: \n\nStrategies for handling common baby feeding challenges.\nWhat are the benefits of breastfeeding.\nHow to understand and respond to your baby’s unique cues.\n\nJoining the class is easy! To sign up and join\, simply use the “Join a WIC Class Now” button below. You’ll need any one of the following items of information: the phone number on your WIC account\, your WIC card number\, or your Family ID number. \nPlease note: The group class meeting will close promptly 5 minutes after the initial start time. If\, for any reason\, you log in late and find that the meeting has already concluded\, we ask you to consider joining another class later or on a different day that better matches your schedule. See you in the Zoom room! \nJoin a Class Now \n  \n 
URL:https://wic.sbcounty.gov/event/newborn-feeding-secrets/2026-05-28/
LOCATION:Zoom/Virtual
CATEGORIES:Prenatal
ATTACH;FMTTYPE=image/jpeg:https://wic.sbcounty.gov/wp-content/uploads/sites/89/NB-FEE.jpg
END:VEVENT
BEGIN:VEVENT
DTSTART;TZID=America/Los_Angeles:20280317T150000
DTEND;TZID=America/Los_Angeles:20280317T160000
DTSTAMP:20260419T165653
CREATED:20251105T224005Z
LAST-MODIFIED:20260417T222810Z
UID:10010150-1836918000-1836921600@wic.sbcounty.gov
SUMMARY:Secretos de la alimentación del recién nacido
DESCRIPTION:En esta clase descubriremos tres estrategias clave para entender cómo su recién nacido se comunica con usted y exploraremos las rutinas de sueño comunes del bebé desde el nacimiento y más allá. Esta es una clase de participación\, así que venga listo para aprender y compartir ideas con otros cuidadores y padres como usted. \nEn esta clase\, aprenderá sobre: \n\nGuías para resolver los problemas más comunes de la alimentación del bebé.\nBeneficios de la lactancia materna.\nCómo entender y responder a las señales únicas de su bebé.\n\n¡Unirse a la clase es fácil! Para inscribirse y formar parte\, simplemente utilice el botón «Unete a nuestra clase ahora» que está abajo. Necesitará uno de los siguientes datos: el número de teléfono de su cuenta WIC\, el número de su tarjeta WIC o su número de identificación familiar. \nNota: La sesión de la clase en grupo se cerrará puntualmente 5 minutos después de la hora de inicio. Si\, por cualquier motivo\, usted se conecta tarde y ve que la reunión ya ha concluido\, le pedimos que considere unirte a otra clase más tarde o en un día diferente que se adapte mejor a su horario. ¡Nos vemos en la sala de Zoom! \n Únete a nuestra clase ahora! \n  \n 
URL:https://wic.sbcounty.gov/event/secretos-de-la-alimentacion-del-recien-nacido-2-2-2-2-2/2028-03-17/
LOCATION:Zoom/Virtual
CATEGORIES:Clases Prenatales
ATTACH;FMTTYPE=image/jpeg:https://wic.sbcounty.gov/wp-content/uploads/sites/89/NB-FEE.jpg
END:VEVENT
END:VCALENDAR